BEGIN:VCALENDAR
VERSION:2.0
PRODID:-//Kuopion katutanssiyhdistys ry - ECPv6.15.20//NONSGML v1.0//EN
CALSCALE:GREGORIAN
METHOD:PUBLISH
X-WR-CALNAME:Kuopion katutanssiyhdistys ry
X-ORIGINAL-URL:https://kuopionkatutanssi.fi
X-WR-CALDESC:Tapahtumat Kuopion katutanssiyhdistys ry
REFRESH-INTERVAL;VALUE=DURATION:PT1H
X-Robots-Tag:noindex
X-PUBLISHED-TTL:PT1H
BEGIN:VTIMEZONE
TZID:Europe/Helsinki
BEGIN:DAYLIGHT
TZOFFSETFROM:+0200
TZOFFSETTO:+0300
TZNAME:EEST
DTSTART:20250330T010000
END:DAYLIGHT
BEGIN:STANDARD
TZOFFSETFROM:+0300
TZOFFSETTO:+0200
TZNAME:EET
DTSTART:20251026T010000
END:STANDARD
BEGIN:DAYLIGHT
TZOFFSETFROM:+0200
TZOFFSETTO:+0300
TZNAME:EEST
DTSTART:20260329T010000
END:DAYLIGHT
BEGIN:STANDARD
TZOFFSETFROM:+0300
TZOFFSETTO:+0200
TZNAME:EET
DTSTART:20261025T010000
END:STANDARD
BEGIN:DAYLIGHT
TZOFFSETFROM:+0200
TZOFFSETTO:+0300
TZNAME:EEST
DTSTART:20270328T010000
END:DAYLIGHT
BEGIN:STANDARD
TZOFFSETFROM:+0300
TZOFFSETTO:+0200
TZNAME:EET
DTSTART:20271031T010000
END:STANDARD
END:VTIMEZONE
BEGIN:VEVENT
DTSTART;TZID=Europe/Helsinki:20260114T153000
DTEND;TZID=Europe/Helsinki:20260114T200000
DTSTAMP:20260420T072330
CREATED:20260112T192340Z
LAST-MODIFIED:20260112T195355Z
UID:1601-1768404600-1768420800@kuopionkatutanssi.fi
SUMMARY:Kokeiluviikko Puistokoulu
DESCRIPTION:Ilmainen kokeilutunti. Tervetuloa!
URL:https://kuopionkatutanssi.fi/tapahtuma/kokeiluviikko-puistokoulu/
ATTACH;FMTTYPE=image/png:https://kuopionkatutanssi.fi/wp-content/uploads/2024/09/KUKA-logo-violetti.png
END:VEVENT
END:VCALENDAR